BEGIN:VCALENDAR
VERSION:2.0
PRODID:-//NCCR PlanetS - ECPv4.9.9//NONSGML v1.0//EN
CALSCALE:GREGORIAN
METHOD:PUBLISH
X-WR-CALNAME:NCCR PlanetS
X-ORIGINAL-URL:https://nccr-planets.ch
X-WR-CALDESC:Events for NCCR PlanetS
BEGIN:VTIMEZONE
TZID:Europe/Paris
BEGIN:DAYLIGHT
TZOFFSETFROM:+0100
TZOFFSETTO:+0200
TZNAME:CEST
DTSTART:20150329T010000
END:DAYLIGHT
BEGIN:STANDARD
TZOFFSETFROM:+0200
TZOFFSETTO:+0100
TZNAME:CET
DTSTART:20151025T010000
END:STANDARD
END:VTIMEZONE
BEGIN:VEVENT
DTSTART;VALUE=DATE:20150601
DTEND;VALUE=DATE:20150606
DTSTAMP:20260423T073843
CREATED:20150601T154831Z
LAST-MODIFIED:20150601T155028Z
UID:8686-1433116800-1433548799@nccr-planets.ch
SUMMARY:Symposium: McCray Symposium
DESCRIPTION:The symposium will celebrate the scientific life of Prof. Richard McCray and will cover supernovae\, supernova remnants\, superbubbles\, etc.\nThe symposium is open to all Swiss-based researchers (Monday to Friday).  On Friday evening (17:00-18:00)\, we will have a public talk on supernova forensics by Prof. Alicia Soderberg. \n[gview file=”http://nccr-planets.ch/wp-content/uploads/2015/06/mccray_symposium_2015_poster.pdf”]\n  \n
URL:https://nccr-planets.ch/event/symposium-mccray-symposium/
LOCATION:Universität Bern\, Exakte Wissenschaften\, Sidlerstrasse 5\, 3012 Bern\, Switzerland\, Switzerland
CATEGORIES:Events
ATTACH;FMTTYPE=image/jpeg:https://nccr-planets.ch/wp-content/uploads/2015/04/Exakte-Wissenschaften.jpg
END:VEVENT
END:VCALENDAR