BEGIN:VCALENDAR
VERSION:2.0
PRODID:-//NCCR PlanetS - ECPv4.9.9//NONSGML v1.0//EN
CALSCALE:GREGORIAN
METHOD:PUBLISH
X-WR-CALNAME:NCCR PlanetS
X-ORIGINAL-URL:https://nccr-planets.ch
X-WR-CALDESC:Events for NCCR PlanetS
BEGIN:VTIMEZONE
TZID:Europe/Paris
BEGIN:DAYLIGHT
TZOFFSETFROM:+0100
TZOFFSETTO:+0200
TZNAME:CEST
DTSTART:20160327T010000
END:DAYLIGHT
BEGIN:STANDARD
TZOFFSETFROM:+0200
TZOFFSETTO:+0100
TZNAME:CET
DTSTART:20161030T010000
END:STANDARD
END:VTIMEZONE
BEGIN:VEVENT
DTSTART;TZID=Europe/Paris:20160603T180000
DTEND;TZID=Europe/Paris:20160603T190000
DTSTAMP:20260421T095549
CREATED:20160525T070032Z
LAST-MODIFIED:20160530T142942Z
UID:14318-1464976800-1464980400@nccr-planets.ch
SUMMARY:Public Talk: "Listening to Venus" by Dr. David Grinspoon
DESCRIPTION:Astrobiologist Dr. David Grinspoon will give a public talk on Venus\, which includes a “live” performance of songs he wrote\, on 3rd June 2016 (Friday) at UniS A003 from 18.00-19.00. \nFlyer \n
URL:https://nccr-planets.ch/event/public-talk-listening-venus-dr-david-grinspoon/
LOCATION:Universität Bern\, UniS\, A003\, Schanzeneckstr. 1\, 3012 Bern
CATEGORIES:Events,Outreach
ATTACH;FMTTYPE=image/png:https://nccr-planets.ch/wp-content/uploads/2016/05/20160603_David-Grinspoon_public-event_600x300.png
END:VEVENT
END:VCALENDAR