BEGIN:VCALENDAR
VERSION:2.0
PRODID:-//NCCR PlanetS - ECPv4.9.9//NONSGML v1.0//EN
CALSCALE:GREGORIAN
METHOD:PUBLISH
X-WR-CALNAME:NCCR PlanetS
X-ORIGINAL-URL:https://nccr-planets.ch
X-WR-CALDESC:Events for NCCR PlanetS
BEGIN:VTIMEZONE
TZID:Europe/Paris
BEGIN:DAYLIGHT
TZOFFSETFROM:+0100
TZOFFSETTO:+0200
TZNAME:CEST
DTSTART:20160327T010000
END:DAYLIGHT
BEGIN:STANDARD
TZOFFSETFROM:+0200
TZOFFSETTO:+0100
TZNAME:CET
DTSTART:20161030T010000
END:STANDARD
END:VTIMEZONE
BEGIN:VEVENT
DTSTART;TZID=Europe/Paris:20160518T141500
DTEND;TZID=Europe/Paris:20160518T151500
DTSTAMP:20260419T123316
CREATED:20151130T153838Z
LAST-MODIFIED:20151130T153838Z
UID:11553-1463580900-1463584500@nccr-planets.ch
SUMMARY:Atmospheric Chemistry and Biosignatures of Exoplanets
DESCRIPTION:18.05.2016 CSH Dr. Renyu Hu (Caltech\, Department of Astronomy\, U.S.A.) \n
URL:https://nccr-planets.ch/event/atmospheric-chemistry-and-biosignatures-of-exoplanets/
LOCATION:Universität Bern\, Exakte Wissenschaften\, Sidlerstrasse 5\, 3012 Bern\, Switzerland\, Switzerland
CATEGORIES:Courses,Events,Seminar Bern
ATTACH;FMTTYPE=image/jpeg:https://nccr-planets.ch/wp-content/uploads/2015/04/Exakte-Wissenschaften.jpg
END:VEVENT
END:VCALENDAR