BEGIN:VCALENDAR
VERSION:2.0
PRODID:-//NCCR PlanetS - ECPv4.9.9//NONSGML v1.0//EN
CALSCALE:GREGORIAN
METHOD:PUBLISH
X-WR-CALNAME:NCCR PlanetS
X-ORIGINAL-URL:https://nccr-planets.ch
X-WR-CALDESC:Events for NCCR PlanetS
BEGIN:VTIMEZONE
TZID:Europe/Paris
BEGIN:DAYLIGHT
TZOFFSETFROM:+0100
TZOFFSETTO:+0200
TZNAME:CEST
DTSTART:20150329T010000
END:DAYLIGHT
BEGIN:STANDARD
TZOFFSETFROM:+0200
TZOFFSETTO:+0100
TZNAME:CET
DTSTART:20151025T010000
END:STANDARD
END:VTIMEZONE
BEGIN:VEVENT
DTSTART;TZID=Europe/Paris:20151118T141500
DTEND;TZID=Europe/Paris:20151118T154500
DTSTAMP:20260423T073208
CREATED:20150924T113707Z
LAST-MODIFIED:20150924T120154Z
UID:11038-1447856100-1447861500@nccr-planets.ch
SUMMARY:Seminar: Life on the rocks
DESCRIPTION:Seminar: Life on the rocks\nDr. Anna Neubeck\, Department of Geological Sciences\, Stockholm University\, Sweden \nCSH: Mittwoch\, 14:15-15:45 Uhr\, Hörraum B5\, Exakte Wissenschaften (ExWi)\, Sidlertrasee 5\, 3012 Bern \n  \n  \n
URL:https://nccr-planets.ch/event/11038/
LOCATION:Universität Bern\, Exakte Wissenschaften\, Sidlerstrasse 5\, 3012 Bern\, Switzerland\, Switzerland
CATEGORIES:Courses,Events,Seminar Bern
ATTACH;FMTTYPE=image/jpeg:https://nccr-planets.ch/wp-content/uploads/2015/04/Exakte-Wissenschaften.jpg
ORGANIZER;CN="Physikalisches%20Institut%2C%20Weltraumforschung%20und%20Planetologie%20%28WP%29":MAILTO:tina.rothenbühler@space.unibe.ch
END:VEVENT
END:VCALENDAR