BEGIN:VCALENDAR
VERSION:2.0
PRODID:-//NCCR PlanetS - ECPv4.9.9//NONSGML v1.0//EN
CALSCALE:GREGORIAN
METHOD:PUBLISH
X-WR-CALNAME:NCCR PlanetS
X-ORIGINAL-URL:http://nccr-planets.ch
X-WR-CALDESC:Events for NCCR PlanetS
BEGIN:VTIMEZONE
TZID:Europe/Paris
BEGIN:DAYLIGHT
TZOFFSETFROM:+0100
TZOFFSETTO:+0200
TZNAME:CEST
DTSTART:20150329T010000
END:DAYLIGHT
BEGIN:STANDARD
TZOFFSETFROM:+0200
TZOFFSETTO:+0100
TZNAME:CET
DTSTART:20151025T010000
END:STANDARD
END:VTIMEZONE
BEGIN:VEVENT
DTSTART;TZID=Europe/Paris:20150617T141500
DTEND;TZID=Europe/Paris:20150617T154500
DTSTAMP:20260424T083901
CREATED:20150421T073927Z
LAST-MODIFIED:20150421T144902Z
UID:7463-1434550500-1434555900@nccr-planets.ch
SUMMARY:Seminar: Physical properties of Transneptunians and Centaurs from HERSCHEL space telescope observations
DESCRIPTION:Seminar on Planetary Sciences by Dr. Sonia Fornasier\, LESIA\, Observatoire de Paris\, Meudon\, France \n17.06.2015\, Mittwoch\, 14:15 – 15:45\nRaum B5\, Exakte Wissenschaften\, Sidlerstrasse 5\, 3012 Bern \n
URL:http://nccr-planets.ch/event/seminar-physical-properties-of-transneptunians-and-centaurs-from-herschel-space-telescope-observations/
LOCATION:Universität Bern\, Exakte Wissenschaften\, Raum B5\, Sidlerstrasse 5\, 3012 Bern\, Switzerland
CATEGORIES:Seminar Bern
ATTACH;FMTTYPE=image/jpeg:http://nccr-planets.ch/wp-content/uploads/2015/04/Exakte-Wissenschaften.jpg
ORGANIZER;CN="Physikalisches%20Institut%2C%20Weltraumforschung%20und%20Planetologie%20%28WP%29":MAILTO:tina.rothenbühler@space.unibe.ch
END:VEVENT
END:VCALENDAR