BEGIN:VCALENDAR
VERSION:2.0
PRODID:-//NCCR PlanetS - ECPv4.9.9//NONSGML v1.0//EN
CALSCALE:GREGORIAN
METHOD:PUBLISH
X-WR-CALNAME:NCCR PlanetS
X-ORIGINAL-URL:http://nccr-planets.ch
X-WR-CALDESC:Events for NCCR PlanetS
BEGIN:VTIMEZONE
TZID:Europe/Paris
BEGIN:DAYLIGHT
TZOFFSETFROM:+0100
TZOFFSETTO:+0200
TZNAME:CEST
DTSTART:20150329T010000
END:DAYLIGHT
BEGIN:STANDARD
TZOFFSETFROM:+0200
TZOFFSETTO:+0100
TZNAME:CET
DTSTART:20151025T010000
END:STANDARD
END:VTIMEZONE
BEGIN:VEVENT
DTSTART;TZID=Europe/Paris:20151216T141500
DTEND;TZID=Europe/Paris:20151216T154500
DTSTAMP:20260420T001333
CREATED:20150924T115204Z
LAST-MODIFIED:20151130T154351Z
UID:11042-1450275300-1450280700@nccr-planets.ch
SUMMARY:Seminar: Composition of the dust of comet 67P/Churyumov-Gerasimenko
DESCRIPTION:Prof. Christelle Briois\, University of Orléans\, Orléans\, France\nComposition of the dust of comet 67P/Churyumov-Gerasimenko \nMittwoch\, 14:15-15:45 Uhr\, Hörraum B5\, Exakte Wissenschaften (ExWi)\, Sidlertrasee 5\, 3012 Bern \n  \n  \n  \n
URL:http://nccr-planets.ch/event/11042/
LOCATION:Universität Bern\, Exakte Wissenschaften\, Sidlerstrasse 5\, 3012 Bern\, Switzerland\, Switzerland
CATEGORIES:Courses,Events,Seminar Bern
ATTACH;FMTTYPE=image/jpeg:http://nccr-planets.ch/wp-content/uploads/2015/04/Exakte-Wissenschaften.jpg
ORGANIZER;CN="Physikalisches%20Institut%2C%20Weltraumforschung%20und%20Planetologie%20%28WP%29":MAILTO:tina.rothenbühler@space.unibe.ch
END:VEVENT
END:VCALENDAR